BEGIN:VCALENDAR
VERSION:2.0
PRODID:-//147.100.242.14//NONSGML kigkonsult.se iCalcreator 2.41.92//
CALSCALE:GREGORIAN
UID:35306435-3738-4166-b435-346638316433
X-WR-TIMEZONE:Europe/Paris
BEGIN:VTIMEZONE
TZID:Europe/Paris
TZUNTIL:20240331T010000Z
BEGIN:STANDARD
TZNAME:CET
DTSTART:20211031T030000
TZOFFSETFROM:+0200
TZOFFSETTO:+0100
RDATE:20221030T030000
RDATE:20231029T030000
END:STANDARD
BEGIN:DAYLIGHT
TZNAME:CEST
DTSTART:20220327T020000
TZOFFSETFROM:+0100
TZOFFSETTO:+0200
RDATE:20230326T020000
END:DAYLIGHT
END:VTIMEZONE
BEGIN:VEVENT
UID:39363435-3361-4635-b436-303837633966
DTSTAMP:20260419T214825Z
DTSTART:20220829T080000Z
DTEND:20220831T160000Z
LOCATION:Agropolis Fondation
SUMMARY:13th International Conference of the French Society of Plant Biolog
 y
URL:https://sfbvcongress.colloque.inrae.fr
END:VEVENT
END:VCALENDAR
